BEGIN:VCALENDAR
VERSION:2.0
PRODID:-//kender.se - ECPv6.15.18//NONSGML v1.0//EN
CALSCALE:GREGORIAN
METHOD:PUBLISH
X-ORIGINAL-URL:https://kender.se/wp
X-WR-CALDESC:Händelser för kender.se
REFRESH-INTERVAL;VALUE=DURATION:PT1H
X-Robots-Tag:noindex
X-PUBLISHED-TTL:PT1H
BEGIN:VTIMEZONE
TZID:Europe/Stockholm
BEGIN:DAYLIGHT
TZOFFSETFROM:+0100
TZOFFSETTO:+0200
TZNAME:CEST
DTSTART:20240331T010000
END:DAYLIGHT
BEGIN:STANDARD
TZOFFSETFROM:+0200
TZOFFSETTO:+0100
TZNAME:CET
DTSTART:20241027T010000
END:STANDARD
BEGIN:DAYLIGHT
TZOFFSETFROM:+0100
TZOFFSETTO:+0200
TZNAME:CEST
DTSTART:20250330T010000
END:DAYLIGHT
BEGIN:STANDARD
TZOFFSETFROM:+0200
TZOFFSETTO:+0100
TZNAME:CET
DTSTART:20251026T010000
END:STANDARD
BEGIN:DAYLIGHT
TZOFFSETFROM:+0100
TZOFFSETTO:+0200
TZNAME:CEST
DTSTART:20260329T010000
END:DAYLIGHT
BEGIN:STANDARD
TZOFFSETFROM:+0200
TZOFFSETTO:+0100
TZNAME:CET
DTSTART:20261025T010000
END:STANDARD
END:VTIMEZONE
BEGIN:VEVENT
DTSTART;TZID=Europe/Stockholm:20250919T180000
DTEND;TZID=Europe/Stockholm:20250919T200000
DTSTAMP:20260420T160130
CREATED:20250630T112953Z
LAST-MODIFIED:20250630T114031Z
UID:260-1758304800-1758312000@kender.se
SUMMARY:Hammarby IF - Värmdö HC
DESCRIPTION:Träningsmatch mellan Hammarby IF och seriekonkurrenten Värmdö HC
URL:https://kender.se/wp/event/hammarby-if-varmdo-hc/
LOCATION:Kärrtorps IP\, Kärrtorpsvägen 5D\, Johanneshov\, Stockholm\, Sweden
END:VEVENT
END:VCALENDAR