BEGIN:VCALENDAR
VERSION:2.0
PRODID:-//kender.se - ECPv6.15.18//NONSGML v1.0//EN
CALSCALE:GREGORIAN
METHOD:PUBLISH
X-ORIGINAL-URL:https://kender.se/wp
X-WR-CALDESC:Händelser för kender.se
REFRESH-INTERVAL;VALUE=DURATION:PT1H
X-Robots-Tag:noindex
X-PUBLISHED-TTL:PT1H
BEGIN:VTIMEZONE
TZID:Europe/Stockholm
BEGIN:DAYLIGHT
TZOFFSETFROM:+0100
TZOFFSETTO:+0200
TZNAME:CEST
DTSTART:20240331T010000
END:DAYLIGHT
BEGIN:STANDARD
TZOFFSETFROM:+0200
TZOFFSETTO:+0100
TZNAME:CET
DTSTART:20241027T010000
END:STANDARD
BEGIN:DAYLIGHT
TZOFFSETFROM:+0100
TZOFFSETTO:+0200
TZNAME:CEST
DTSTART:20250330T010000
END:DAYLIGHT
BEGIN:STANDARD
TZOFFSETFROM:+0200
TZOFFSETTO:+0100
TZNAME:CET
DTSTART:20251026T010000
END:STANDARD
BEGIN:DAYLIGHT
TZOFFSETFROM:+0100
TZOFFSETTO:+0200
TZNAME:CEST
DTSTART:20260329T010000
END:DAYLIGHT
BEGIN:STANDARD
TZOFFSETFROM:+0200
TZOFFSETTO:+0100
TZNAME:CET
DTSTART:20261025T010000
END:STANDARD
END:VTIMEZONE
BEGIN:VEVENT
DTSTART;TZID=Europe/Stockholm:20250906T121500
DTEND;TZID=Europe/Stockholm:20250906T151500
DTSTAMP:20260420T155716
CREATED:20250630T110446Z
LAST-MODIFIED:20250630T111750Z
UID:248-1757160900-1757171700@kender.se
SUMMARY:Ockelbo HC - Hammarby IF
DESCRIPTION:
URL:https://kender.se/wp/event/traningsmatch/
LOCATION:Ugglebo Arena\, Ockelbo\, Sweden
CATEGORIES:Bortamatch (träningsmatch),Match
END:VEVENT
BEGIN:VEVENT
DTSTART;TZID=Europe/Stockholm:20250909T195500
DTEND;TZID=Europe/Stockholm:20250909T215500
DTSTAMP:20260420T155716
CREATED:20250630T112356Z
LAST-MODIFIED:20250908T170256Z
UID:256-1757447700-1757454900@kender.se
SUMMARY:Värmdö HC - Hammarby IF
DESCRIPTION:Träningsmatch
URL:https://kender.se/wp/event/varmdo-hc-hammarby-if/
CATEGORIES:Bortamatch (träningsmatch),Match
END:VEVENT
BEGIN:VEVENT
DTSTART;TZID=Europe/Stockholm:20250913T080000
DTEND;TZID=Europe/Stockholm:20250913T170000
DTSTAMP:20260420T155716
CREATED:20250630T112549Z
LAST-MODIFIED:20250630T112729Z
UID:258-1757750400-1757782800@kender.se
SUMMARY:Tyresö/Hanviken - Hammarby IF
DESCRIPTION:
URL:https://kender.se/wp/event/tyreso-hanviken-hammarby-if/
CATEGORIES:Bortamatch (träningsmatch),Match
END:VEVENT
BEGIN:VEVENT
DTSTART;TZID=Europe/Stockholm:20250919T180000
DTEND;TZID=Europe/Stockholm:20250919T200000
DTSTAMP:20260420T155716
CREATED:20250630T112953Z
LAST-MODIFIED:20250630T114031Z
UID:260-1758304800-1758312000@kender.se
SUMMARY:Hammarby IF - Värmdö HC
DESCRIPTION:Träningsmatch mellan Hammarby IF och seriekonkurrenten Värmdö HC
URL:https://kender.se/wp/event/hammarby-if-varmdo-hc/
LOCATION:Kärrtorps IP\, Kärrtorpsvägen 5D\, Johanneshov\, Stockholm\, Sweden
END:VEVENT
BEGIN:VEVENT
DTSTART;TZID=Europe/Stockholm:20250923T190000
DTEND;TZID=Europe/Stockholm:20250923T210000
DTSTAMP:20260420T155716
CREATED:20250913T111105Z
LAST-MODIFIED:20250913T111106Z
UID:288-1758654000-1758661200@kender.se
SUMMARY:Segeltorps IF - Hammarby IF
DESCRIPTION:Träningsmatch
URL:https://kender.se/wp/event/segeltorps-if-hammarby-if/
END:VEVENT
END:VCALENDAR